BEGIN:VCALENDAR
VERSION:2.0
PRODID:-//The Little America Hotel, Flagstaff - ECPv6.15.20//NONSGML v1.0//EN
CALSCALE:GREGORIAN
METHOD:PUBLISH
X-ORIGINAL-URL:https://flagstaff.littleamerica.com
X-WR-CALDESC:Events for The Little America Hotel, Flagstaff
REFRESH-INTERVAL;VALUE=DURATION:PT1H
X-Robots-Tag:noindex
X-PUBLISHED-TTL:PT1H
BEGIN:VTIMEZONE
TZID:America/Denver
BEGIN:DAYLIGHT
TZOFFSETFROM:-0700
TZOFFSETTO:-0600
TZNAME:MDT
DTSTART:20250309T090000
END:DAYLIGHT
BEGIN:STANDARD
TZOFFSETFROM:-0600
TZOFFSETTO:-0700
TZNAME:MST
DTSTART:20251102T080000
END:STANDARD
BEGIN:DAYLIGHT
TZOFFSETFROM:-0700
TZOFFSETTO:-0600
TZNAME:MDT
DTSTART:20260308T090000
END:DAYLIGHT
BEGIN:STANDARD
TZOFFSETFROM:-0600
TZOFFSETTO:-0700
TZNAME:MST
DTSTART:20261101T080000
END:STANDARD
BEGIN:DAYLIGHT
TZOFFSETFROM:-0700
TZOFFSETTO:-0600
TZNAME:MDT
DTSTART:20270314T090000
END:DAYLIGHT
BEGIN:STANDARD
TZOFFSETFROM:-0600
TZOFFSETTO:-0700
TZNAME:MST
DTSTART:20271107T080000
END:STANDARD
END:VTIMEZONE
BEGIN:VEVENT
DTSTART;TZID=America/Denver:20260317T110000
DTEND;TZID=America/Denver:20260317T203000
DTSTAMP:20260424T060452
CREATED:20260215T004250Z
LAST-MODIFIED:20260217T164739Z
UID:10000519-1773745200-1773779400@flagstaff.littleamerica.com
SUMMARY:St. Patrick’s Day Specials
DESCRIPTION:Celebrate St. Patrick’s Day with us and enjoy a festive feast full of Irish-inspired flavors ☘️✨ \nJoin us for our spirited St. Patrick’s Day specials\, served during both lunch and dinner. Indulge in a delicious holiday-inspired menu for $40 per person and make it a celebration to remember! \nPlease note that the price does not include tax and gratuity. \n\n\n\n\n\n\n\n\n\n\n\n\n\n\nReservations \nMenu \n\n\n\n\n\n\n\n\n\n\n\n\n 
URL:https://flagstaff.littleamerica.com/event/st-patricks-day-specials/
LOCATION:Silver Pine Restaurant & Bar
CATEGORIES:Dining,Holidays
ATTACH;FMTTYPE=image/jpeg:https://flagstaff.littleamerica.com/wp-content/uploads/2021/02/LAF-ST.-Patty-6.jpg
END:VEVENT
END:VCALENDAR